BEGIN:VCALENDAR
VERSION:2.0
PRODID:icalendar-ruby
CALSCALE:GREGORIAN
METHOD:PUBLISH
BEGIN:VEVENT
DTSTAMP:20260424T091000Z
UID:5-384980@newlife139.tithelysetup2.com
DTSTART:20260809T170000Z
DTEND:20260809T183000Z
CLASS:PUBLIC
CREATED:20260407T113028
DESCRIPTION:Sunday Worship
LAST-MODIFIED:20260407T113028
LOCATION:
SUMMARY:Sunday Worship
URL;VALUE=URI:https://www.newlifeteulon.com/events/sunday-worship/2026-08-0
 9
END:VEVENT
END:VCALENDAR
